BEGIN:VCALENDAR
VERSION:2.0
PRODID:Museumssonntag in der Villa Nennig
BEGIN:VEVENT
UID:20260426T02:21:36-20260503T10:00:00-20260503T18:00:00
LOCATION:Römische Villa Nennig\, Römerstraße 11\,  66706 Perl-Nennig
SUMMARY:Museumssonntag in der Villa Nennig
DESCRIPTION:<p>Programm in der <strong>Villa Nennig</strong></p>
<ul> 	<li> 	<p><strong>14-15 Uhr Überblicksführung | </strong> Die Villa Nennig und das berühmte römischen Bodenmosaik</p> 	</li> </ul>
<p>Änderungen im Programm vorbehalten.</p>
<p>Der Eintritt und die Teilnahme am Programm sind kostenfrei. Es sind keine Voranmeldungen notwendig. <strong> </strong></p>
<h6>Holt euch euer Freiticket an der Museumskasse!</h6>


CLASS:PUBLIC
DTSTART:20260503T10:00:00
DTEND:20260503T18:00:00
DTSTAMP:20260426T02:21:36
END:VEVENT
END:VCALENDAR