BEGIN:VCALENDAR
VERSION:2.0
PRODID:Museumssonntag im Museum für Vor- und Frühgeschichte
BEGIN:VEVENT
UID:20260426T02:21:36-20260503T10:00:00-20260503T18:00:00
LOCATION:Museum für Vor- und Frühgeschichte\, Schlossplatz 16\,  66119 Saarbrücken
SUMMARY:Museumssonntag im Museum für Vor- und Frühgeschichte
DESCRIPTION:<p>Programm im Museum für Vor- und Frühgeschichte</p>
<ul> 	<li><strong>11-12:00 Uhr Überblicksführung</strong> | Kreisständehaus </li> 	<li><strong>13:30-15:30 Uhr Kinderworkshop | </strong>Was glänzt? Scheibenfibeln gestalten</li> 	<li><strong>16-17:00 Uhr Führung |</strong> Was bleibt? Die Zeit der Merowinger - letzte Führung!</li> </ul>
<h5>Holt euch euer Freiticket an der Museumskasse!</h5>
<p><strong>An der Museumskasse kostenfrei erhältlich:</strong></p>
<p><strong>Unsere Museumsrallyes</strong> durch das Museum:</p>
<ul> 	<li>Löse knifflige Rätsel und entdecke das Museum für Vor- und Frühgeschichte und die Alte Sammlung!</li> 	<li> "Auf den Spuren der Merowinger": Mit dem Geisterpferdchen durch die Ausstellung "Was bleibt? Die Zeit der Merowinger"</li> </ul>
CLASS:PUBLIC
DTSTART:20260503T10:00:00
DTEND:20260503T18:00:00
DTSTAMP:20260426T02:21:36
END:VEVENT
END:VCALENDAR